BEGIN:VCALENDAR
VERSION:2.0
PRODID:-//ical.marudot.com//iCal Event Maker
CALSCALE:GREGORIAN
BEGIN:VTIMEZONE
TZID:Europe/Berlin
LAST-MODIFIED:20250410T142247Z
TZURL:https://www.tzurl.org/zoneinfo-outlook/Europe/Berlin
X-LIC-LOCATION:Europe/Berlin
BEGIN:DAYLIGHT
TZNAME:CEST
TZOFFSETFROM:+0100
TZOFFSETTO:+0200
DTSTART:19700329T020000
RRULE:FREQ=YEARLY;BYMONTH=3;BYDAY=-1SU
END:DAYLIGHT
BEGIN:STANDARD
TZNAME:CET
TZOFFSETFROM:+0200
TZOFFSETTO:+0100
DTSTART:19701025T030000
RRULE:FREQ=YEARLY;BYMONTH=10;BYDAY=-1SU
END:STANDARD
END:VTIMEZONE
BEGIN:VEVENT
DTSTAMP:20260320T103819Z
UID:1763912297982-16188@ical.marudot.com
DTSTART;TZID=Europe/Berlin:20260522T100000
DTEND;TZID=Europe/Berlin:20260601T100000
SUMMARY:Heilpilze Kongress 
URL:https://akademie.medumio.de/heilpilzkongress/kongressraum/
DESCRIPTION:Der große Heilpilze Kongress auf Akademie Medumio. Online & kostenlos mit Mareen Jedro.
LOCATION:https://akademie.medumio.de/heilpilzkongress/kongressraum/
BEGIN:VALARM
ACTION:DISPLAY
DESCRIPTION:Heilpilze Kongress 
TRIGGER:-PT0M
END:VALARM
END:VEVENT
END:VCALENDAR